BEGIN:VCALENDAR
PRODID:-//Improsys//EN
VERSION:2.0
CALSCALE:GREGORIAN
BEGIN:VEVENT
UID:bcda835d-df91-42ac-a7f5-52b3c52f4b47
DTSTAMP:20260424T003038Z
DTSTART;VALUE=DATE:20250401
DTEND;VALUE=DATE:20270814
SUMMARY:Blocked
END:VEVENT
END:VCALENDAR


